BEGIN:VCALENDAR
VERSION:2.0
PRODID:-//wp-events-plugin.com//7.2.3.1//EN
TZID:America/New_York
X-WR-TIMEZONE:America/New_York
BEGIN:VEVENT
UID:1658@gallitheaternyc.com
DTSTART;TZID=America/New_York:20260926T140000
DTEND;TZID=America/New_York:20260926T150000
DTSTAMP:20260128T025825Z
URL:https://gallitheaternyc.com/events/little-red-riding-hood-29/
SUMMARY:Little Red Riding Hood
DESCRIPTION:[vc_row css=".vc_custom_1507994757353{margin-right: 15px !impor
 tant\;}"][vc_column][vcex_heading text="Little Red Riding Hood" responsive
 _text="true" tag="h1" css=".vc_custom_1523636355223{margin-bottom: 10px !i
 mportant\;}"][vc_column_text]Little Red Riding Hood sets out through the f
 orest to bring food to her grandmother. But who is in grandmother's bed wh
 en she gets there?  Can a little girl in a red cape outfox a big bad wolf
 ? [/vc_column_text][vc_tta_accordion style="flat" shape="square" spacing="
 5" c_icon="chevron" active_section="2" no_fill="true" css=".vc_custom_1507
 933352590{margin-top: 30px !important\;}"][vc_tta_section title="Performer
 s" tab_id="1503413319127-b0178b70-60cd852e-d5bd62e9-a26a164f-c643146a-832e
 "][vcex_staff_grid title_tag="h3" excerpt="false" read_more="false" img_cr
 op="left-top" img_width="270" img_height="360" img_filter="grayscale" incl
 ude_categories="243\, 248\, 180" columns_gap="15"][/vc_tta_section][/vc_tt
 a_accordion][/vc_column][/vc_row]
ATTACH;FMTTYPE=image/jpeg:https://gallitheaternyc.com/wp-content/uploads/2
 023/08/littleRed_Hanna-Granny_3_1.jpg
CATEGORIES:English Kids Shows,English Shows,Shows
LOCATION:Galli Theater New York\, 72 - 74 Warren St\, New York\, New York\,
  10007\, Tribeca\, United States
X-APPLE-STRUCTURED-LOCATION;VALUE=URI;X-ADDRESS=72 - 74 Warren St\, New Yor
 k\, New York\, 10007\, Tribeca\, United States;X-APPLE-RADIUS=100;X-TITLE=
 Galli Theater New York:geo:0,0
END:VEVENT
BEGIN:VTIMEZONE
TZID:America/New_York
X-LIC-LOCATION:America/New_York
BEGIN:DAYLIGHT
DTSTART:20260308T030000
TZOFFSETFROM:-0500
TZOFFSETTO:-0400
TZNAME:EDT
END:DAYLIGHT
END:VTIMEZONE
END:VCALENDAR