BEGIN:VCALENDAR
VERSION:2.0
PRODID:-//wp-events-plugin.com//7.2.3.1//EN
TZID:America/New_York
X-WR-TIMEZONE:America/New_York
BEGIN:VEVENT
UID:1651@gallitheaternyc.com
DTSTART;TZID=America/New_York:20261003T140000
DTEND;TZID=America/New_York:20261003T150000
DTSTAMP:20260318T013559Z
URL:https://gallitheaternyc.com/events/rapunzel-38/
SUMMARY:Rapunzel
DESCRIPTION:[vc_row css=".vc_custom_1507994757353{margin-right: 15px !impor
 tant\;}"][vc_column][vcex_heading text="Rapunzel" responsive_text="true" t
 ag="h1" css=".vc_custom_1524933997473{margin-bottom: 10px !important\;}"][
 vc_column_text]When a husband sneaks into a garden for his wife he makes a
  promise to a witch. Will his promise be kept and his daughter doomed to l
 ive in a tower or will a prince come along and save her from her fate? [/
 vc_column_text][vc_tta_accordion style="flat" shape="square" spacing="5" c
 _icon="chevron" active_section="2" no_fill="true" css=".vc_custom_15079333
 52590{margin-top: 30px !important\;}"][vc_tta_section title="Performers" t
 ab_id="1503413319127-b0178b70-60cd852e-d5bd62e9-a26a164f-c643281f-f467"][v
 cex_staff_grid title_tag="h3" excerpt="false" read_more="false" img_crop="
 left-top" img_width="270" img_height="360" img_filter="grayscale" include_
 categories="242\, 243\, 238" columns_gap="15"][/vc_tta_section][/vc_tta_ac
 cordion][/vc_column][/vc_row]
ATTACH;FMTTYPE=image/jpeg:https://gallitheaternyc.com/wp-content/uploads/2
 018/04/Rapunzel_title.jpg
CATEGORIES:English Kids Shows,English Shows,Shows
LOCATION:Galli Theater New York\, 72 - 74 Warren St\, New York\, New York\,
  10007\, Tribeca\, United States
X-APPLE-STRUCTURED-LOCATION;VALUE=URI;X-ADDRESS=72 - 74 Warren St\, New Yor
 k\, New York\, 10007\, Tribeca\, United States;X-APPLE-RADIUS=100;X-TITLE=
 Galli Theater New York:geo:0,0
END:VEVENT
BEGIN:VTIMEZONE
TZID:America/New_York
X-LIC-LOCATION:America/New_York
BEGIN:DAYLIGHT
DTSTART:20260308T030000
TZOFFSETFROM:-0500
TZOFFSETTO:-0400
TZNAME:EDT
END:DAYLIGHT
END:VTIMEZONE
END:VCALENDAR